BEGIN:VCALENDAR
VERSION:2.0
PRODID:icalendar-ruby
CALSCALE:GREGORIAN
METHOD:PUBLISH
BEGIN:VEVENT
DTSTAMP:20260423T190012Z
UID:9-478193@febcfrostburg.org
DTSTART:20260916T150000Z
DTEND:20260916T160000Z
CLASS:PUBLIC
CREATED:20260423T130601
DESCRIPTION:Bible Study
LAST-MODIFIED:20260423T130601
LOCATION:First English Baptist Church
SUMMARY:Bible Study
URL;VALUE=URI:https://www.febcfrostburg.org/events/bible-study/2026-09-16
END:VEVENT
END:VCALENDAR
