BEGIN:VCALENDAR
VERSION:2.0
PRODID:icalendar-ruby
CALSCALE:GREGORIAN
METHOD:PUBLISH
BEGIN:VEVENT
DTSTAMP:20260423T202752Z
UID:9-478587@febcfrostburg.org
DTSTART:20260923T150000Z
DTEND:20260923T160000Z
CLASS:PUBLIC
CREATED:20260423T160240
DESCRIPTION:Bible Study
LAST-MODIFIED:20260423T160240
LOCATION:First English Baptist Church
SUMMARY:Bible Study
URL;VALUE=URI:https://www.febcfrostburg.org/events/bible-study/2026-09-23
END:VEVENT
END:VCALENDAR
