BEGIN:VCALENDAR
VERSION:2.0
PRODID:icalendar-ruby
CALSCALE:GREGORIAN
METHOD:PUBLISH
BEGIN:VEVENT
DTSTAMP:20260423T235617Z
UID:9-478982@febcfrostburg.org
DTSTART:20261007T150000Z
DTEND:20261007T160000Z
CLASS:PUBLIC
CREATED:20260423T185639
DESCRIPTION:Bible Study
LAST-MODIFIED:20260423T185639
LOCATION:First English Baptist Church
SUMMARY:Bible Study
URL;VALUE=URI:https://www.febcfrostburg.org/events/bible-study/2026-10-07
END:VEVENT
END:VCALENDAR
