BEGIN:VCALENDAR
VERSION:2.0
PRODID:icalendar-ruby
CALSCALE:GREGORIAN
METHOD:PUBLISH
BEGIN:VEVENT
DTSTAMP:20260424T013950Z
UID:9-478983@febcfrostburg.org
DTSTART:20261014T150000Z
DTEND:20261014T160000Z
CLASS:PUBLIC
CREATED:20260423T185639
DESCRIPTION:Bible Study
LAST-MODIFIED:20260423T185639
LOCATION:First English Baptist Church
SUMMARY:Bible Study
URL;VALUE=URI:https://www.febcfrostburg.org/events/bible-study/2026-10-14
END:VEVENT
END:VCALENDAR
