BEGIN:VCALENDAR
VERSION:2.0
PRODID:icalendar-ruby
CALSCALE:GREGORIAN
METHOD:PUBLISH
BEGIN:VEVENT
DTSTAMP:20260424T045727Z
UID:9-479378@febcfrostburg.org
DTSTART:20261028T150000Z
DTEND:20261028T160000Z
CLASS:PUBLIC
CREATED:20260423T214955
DESCRIPTION:Bible Study
LAST-MODIFIED:20260423T214955
LOCATION:First English Baptist Church
SUMMARY:Bible Study
URL;VALUE=URI:https://www.febcfrostburg.org/events/bible-study/2026-10-28
END:VEVENT
END:VCALENDAR
