BEGIN:VCALENDAR
VERSION:2.0
PRODID:icalendar-ruby
CALSCALE:GREGORIAN
METHOD:PUBLISH
BEGIN:VEVENT
DTSTAMP:20260424T062520Z
UID:9-479379@febcfrostburg.org
DTSTART:20261104T160000Z
DTEND:20261104T170000Z
CLASS:PUBLIC
CREATED:20260423T214955
DESCRIPTION:Bible Study
LAST-MODIFIED:20260423T214955
LOCATION:First English Baptist Church
SUMMARY:Bible Study
URL;VALUE=URI:https://www.febcfrostburg.org/events/bible-study/2026-11-04
END:VEVENT
END:VCALENDAR
